BEGIN:VCALENDAR
VERSION:2.0
PRODID:-//John Hoeven - ECPv6.15.20//NONSGML v1.0//EN
CALSCALE:GREGORIAN
METHOD:PUBLISH
X-ORIGINAL-URL:https://www.hoeven.senate.gov
X-WR-CALDESC:Events for John Hoeven
REFRESH-INTERVAL;VALUE=DURATION:PT1H
X-Robots-Tag:noindex
X-PUBLISHED-TTL:PT1H
BEGIN:VTIMEZONE
TZID:America/North_Dakota/Center
BEGIN:DAYLIGHT
TZOFFSETFROM:-0600
TZOFFSETTO:-0500
TZNAME:CDT
DTSTART:20250309T080000
END:DAYLIGHT
BEGIN:STANDARD
TZOFFSETFROM:-0500
TZOFFSETTO:-0600
TZNAME:CST
DTSTART:20251102T070000
END:STANDARD
BEGIN:DAYLIGHT
TZOFFSETFROM:-0600
TZOFFSETTO:-0500
TZNAME:CDT
DTSTART:20260308T080000
END:DAYLIGHT
BEGIN:STANDARD
TZOFFSETFROM:-0500
TZOFFSETTO:-0600
TZNAME:CST
DTSTART:20261101T070000
END:STANDARD
BEGIN:DAYLIGHT
TZOFFSETFROM:-0600
TZOFFSETTO:-0500
TZNAME:CDT
DTSTART:20270314T080000
END:DAYLIGHT
BEGIN:STANDARD
TZOFFSETFROM:-0500
TZOFFSETTO:-0600
TZNAME:CST
DTSTART:20271107T070000
END:STANDARD
END:VTIMEZONE
BEGIN:VEVENT
DTSTART;TZID=America/North_Dakota/Center:20260216T140000
DTEND;TZID=America/North_Dakota/Center:20260216T140000
DTSTAMP:20260425T194049
CREATED:20260311T141940Z
LAST-MODIFIED:20260311T141940Z
UID:10000027-1771250400-1771250400@www.hoeven.senate.gov
SUMMARY:Senator Hoeven to Outline New Initiative to Grow Grand Forks Tech Ecosystem\, Connect Small Businesses with Defense Funding Opportunities
DESCRIPTION:GRAND FORKS\, N.D. – On Monday\, February 16\, Senator John Hoeven will hold a press conference with leaders from the region’s unmanned aerial systems (UAS)\, space and defense contracting industries to discuss a new upcoming initiative in Grand Forks to help connect small businesses with military research\, development and procurement opportunities. As a member of the Senate Defense Appropriations Committee\, Hoeven worked to fund the initiative in the Fiscal Year (FY) 2026 appropriations legislation\, part of his efforts to strengthen the missions of the Grand Forks Air Force Base and grow the region’s tech ecosystem. \nWhen: Monday\, February 16 \n            2:00 p.m. CT \nWhere: The Hive \n              375 2nd Ave N \n              Grand Forks \n-###
URL:https://www.hoeven.senate.gov/event/senator-hoeven-to-outline-new-initiative-to-grow-grand-forks-tech-ecosystem-connect-small-businesses-with-defense-funding-opportunities
CATEGORIES:General Event
END:VEVENT
BEGIN:VEVENT
DTSTART;TZID=America/North_Dakota/Center:20260217T213000
DTEND;TZID=America/North_Dakota/Center:20260217T223000
DTSTAMP:20260425T194049
CREATED:20260311T141940Z
LAST-MODIFIED:20260311T141940Z
UID:10000026-1771363800-1771367400@www.hoeven.senate.gov
SUMMARY:Senator Hoeven to Provide Update on Nuclear Modernization for Minot Air Force Base Missions
DESCRIPTION:Senator Holding Meeting with Director of ICBM Modernization\, Task Force 21 \nMINOT\, N.D. – On Tuesday\, February 17\, Senator John Hoeven will hold a meeting with MG Colin Connor\, Director of Intercontinental Ballistic Missile (ICBM) Modernization\, and members of Task Force 21 to discuss progress on nuclear modernization for the missions at Minot Air Force Base. Hoeven\, a member of the Senate Defense Appropriations Committee\, will provide an update on the Sentinel ICBM\, the Long Range Stand Off (LRSO) missile\, B-52 upgrades and the procurement of the MH-139 Grey Wolf helicopter\, among other priorities. \nWhen: Tuesday\, February 17 \n             9:30 a.m. CT \nWhere: Dakota Territory Air Museum \n             100 34th Ave NE \n             Minot \n-###-
URL:https://www.hoeven.senate.gov/event/senator-hoeven-to-provide-update-on-nuclear-modernization-for-minot-air-force-base-missions
CATEGORIES:General Event
END:VEVENT
BEGIN:VEVENT
DTSTART;TZID=America/North_Dakota/Center:20260218T140000
DTEND;TZID=America/North_Dakota/Center:20260218T150000
DTSTAMP:20260425T194049
CREATED:20260311T141940Z
LAST-MODIFIED:20260311T141940Z
UID:10000025-1771423200-1771426800@www.hoeven.senate.gov
SUMMARY:Senator Hoeven to Hold Meeting on Bismarck Airport Terminal Development Project
DESCRIPTION:BISMARCK\, N.D. – On Wednesday\, February 18\, Senator John Hoeven will hold a meeting with Bismarck Airport officials and local leaders to discuss the Bismarck Airport’s more than $132 million Terminal Development Project. As a member of the Senate Transportation\, Housing and Urban Development Appropriations Committee\, Hoeven is working to fulfill the project’s $50 million federal funding share\, enabling the airport to renovate its 20-year-old terminal and expand passenger capacity to meet increasing air service demand. \nWhen: Wednesday\, February 18 \n            2:00 p.m. CT \nWhere: Bismarck Municipal Airport \n             Conference Room A/B \n             2301 University Dr. \n             Bismarck \n-###-
URL:https://www.hoeven.senate.gov/event/senator-hoeven-to-hold-meeting-on-bismarck-airport-terminal-development-project
CATEGORIES:General Event
END:VEVENT
BEGIN:VEVENT
DTSTART;TZID=America/North_Dakota/Center:20260220T093000
DTEND;TZID=America/North_Dakota/Center:20260220T103000
DTSTAMP:20260425T194049
CREATED:20260311T141937Z
LAST-MODIFIED:20260311T141937Z
UID:10000024-1771579800-1771583400@www.hoeven.senate.gov
SUMMARY:Senator Hoeven to Discuss Efforts With YWCA to Renew Homelessness Continuum of Care Grants
DESCRIPTION:FARGO\, N.D. – On Friday\, February 20\, Senator John Hoeven will hold a roundtable with Erin Prochnow\, CEO of YWCA Cass Clay\, and members of the YWCA Board of Directors to discuss efforts to renew federal funding for homeless services in North Dakota\, including through facilities like Lantern Light in Fargo. Through his role on the Transportation-HUD Appropriations Committee\, Hoeven has been working with Prochnow\, other service providers across the state and U.S. Department of Housing and Urban Development (HUD) Secretary Scott Turner to advance the renewal of HUD’s Continuum of Care (CoC) grant funds\, which support access to housing and comprehensive services for individuals and families experiencing homelessness. \nWhen: Friday\, February 20 \n            9:30 a.m. CT \nWhere: YWCA Emergency Shelter \n             Butler Room \n             3000 S University Dr \n             Fargo
URL:https://www.hoeven.senate.gov/event/senator-hoeven-to-discuss-efforts-with-ywca-to-renew-homelessness-continuum-of-care-grants
CATEGORIES:General Event
END:VEVENT
BEGIN:VEVENT
DTSTART;TZID=America/North_Dakota/Center:20260220T140000
DTEND;TZID=America/North_Dakota/Center:20260220T150000
DTSTAMP:20260425T194049
CREATED:20260311T141937Z
LAST-MODIFIED:20260311T141937Z
UID:10000023-1771596000-1771599600@www.hoeven.senate.gov
SUMMARY:Senator Hoeven to Hold Press Conference with EERC\, Rep. Fedorchak on Crack the Code 2.0
DESCRIPTION:GRAND FORKS\, N.D. – On Friday\, February 20\, Senator John Hoeven will hold a press conference with Representative Julie Fedorchak and Energy and Environmental Research Center (EERC) CEO Charles Gorecki outlining efforts to advance Crack the Code 2.0. Hoeven is spearheading the $157 million initiative to partner the state’s coal and oil industries\, with the goal of doubling both oil recovery in the Bakken and the life of North Dakota’s coal-fired power plants. \nWhen: Friday\, February 20 \n            2:00 p.m. CT \nWhere: EERC \n             Humbolt Room \n             15 N 23rd St \n             Grand Forks \n-###-
URL:https://www.hoeven.senate.gov/event/senator-hoeven-to-hold-press-conference-with-eerc-rep-fedorchak-on-crack-the-code-2-0
CATEGORIES:General Event
END:VEVENT
BEGIN:VEVENT
DTSTART;TZID=America/North_Dakota/Center:20260221T090000
DTEND;TZID=America/North_Dakota/Center:20260221T100000
DTSTAMP:20260425T194049
CREATED:20260311T141937Z
LAST-MODIFIED:20260311T141937Z
UID:10000022-1771664400-1771668000@www.hoeven.senate.gov
SUMMARY:142nd Engineer Battalion Welcome Home Ceremony
DESCRIPTION:VALLEY CITY\, N.D. – On Saturday\, February 21\, Senator John Hoeven will help welcome home 50 members of the North Dakota National Guard’s (NDNG) 142nd Engineer Battalion following their yearlong deployment to the nation’s southern border in support of U.S. Customs and Border Protection (CBP). \nWhen: Saturday\, February 219:00 a.m. CT \nWhere: Valley City State UniversityCenter for Arts306 Viking DriveValley City \n-###-
URL:https://www.hoeven.senate.gov/event/142nd-engineer-battalion-welcome-home-ceremony
CATEGORIES:General Event
END:VEVENT
BEGIN:VEVENT
DTSTART;TZID=America/North_Dakota/Center:20260227T103000
DTEND;TZID=America/North_Dakota/Center:20260227T113000
DTSTAMP:20260425T194049
CREATED:20260311T141936Z
LAST-MODIFIED:20260311T141936Z
UID:10000021-1772188200-1772191800@www.hoeven.senate.gov
SUMMARY:FAA Secure Data Feed Press Conference
DESCRIPTION:GRAND FORKS\, N.D. – On Friday\, February 27\, Senator John Hoeven will hold a press conference with Trevor Woods\, Executive Director of the Northern Plains UAS Test Site\, officials from the Federal Aviation Administration (FAA) and leaders from North Dakota’s unmanned aviation industry to announce the activation of the secure FAA radar data feed at the state’s test site. Hoeven first announced the agreement to bring the radar feed to the test site at the 2024 UAS Summit\, following his work to pass legislation to require such an initiative from the FAA and make the case for North Dakota as the best location for these efforts. Hoeven will outline how this capability will maintain the state’s position as the most advanced UAS ecosystem in the nation\, empowering new avenues for UAS and counter-UAS research\, development and testing. \nWhen: Friday\, February 2710:30 a.m. CT \nWhere: Robin HallAtrium4275 University AveGrand Forks \n-###-
URL:https://www.hoeven.senate.gov/event/faa-secure-data-feed-press-conference
CATEGORIES:General Event
END:VEVENT
END:VCALENDAR