BEGIN:VCALENDAR
VERSION:2.0
PRODID:-//John Hoeven - ECPv6.15.20//NONSGML v1.0//EN
CALSCALE:GREGORIAN
METHOD:PUBLISH
X-ORIGINAL-URL:https://www.hoeven.senate.gov
X-WR-CALDESC:Events for John Hoeven
REFRESH-INTERVAL;VALUE=DURATION:PT1H
X-Robots-Tag:noindex
X-PUBLISHED-TTL:PT1H
BEGIN:VTIMEZONE
TZID:America/North_Dakota/Center
BEGIN:DAYLIGHT
TZOFFSETFROM:-0600
TZOFFSETTO:-0500
TZNAME:CDT
DTSTART:20240310T080000
END:DAYLIGHT
BEGIN:STANDARD
TZOFFSETFROM:-0500
TZOFFSETTO:-0600
TZNAME:CST
DTSTART:20241103T070000
END:STANDARD
BEGIN:DAYLIGHT
TZOFFSETFROM:-0600
TZOFFSETTO:-0500
TZNAME:CDT
DTSTART:20250309T080000
END:DAYLIGHT
BEGIN:STANDARD
TZOFFSETFROM:-0500
TZOFFSETTO:-0600
TZNAME:CST
DTSTART:20251102T070000
END:STANDARD
BEGIN:DAYLIGHT
TZOFFSETFROM:-0600
TZOFFSETTO:-0500
TZNAME:CDT
DTSTART:20260308T080000
END:DAYLIGHT
BEGIN:STANDARD
TZOFFSETFROM:-0500
TZOFFSETTO:-0600
TZNAME:CST
DTSTART:20261101T070000
END:STANDARD
END:VTIMEZONE
BEGIN:VEVENT
DTSTART;TZID=America/North_Dakota/Center:20251213T131500
DTEND;TZID=America/North_Dakota/Center:20251213T140000
DTSTAMP:20260425T194052
CREATED:20260311T142053Z
LAST-MODIFIED:20260311T142053Z
UID:10000031-1765631700-1765634400@www.hoeven.senate.gov
SUMMARY:Senator Hoeven to Address North Dakota Farmers Union Annual Convention\, Discuss Efforts on Trade\, Farm Safety Net Enhancements & Ag Assistance
DESCRIPTION:BISMARCK\, N.D. – On Saturday\, December 13\, Senator John Hoeven will address the North Dakota Farmers Union annual convention. The senator will discuss efforts to open new markets and secure better trade deals for producers\, as well as advance the $12 billion in agriculture assistance he announced with President Trump earlier this week. The assistance will serve as a bridge until the farm safety net enhancements that Hoeven secured in the One Big Beautiful Bill come into full effect\, while giving the administration additional leverage in its trade negotiations with China. \nWhen: Saturday\, December 13 \n            1:15 p.m. CT \nWhere: Bismarck Event Center \n             315 S 5th St \n             Bismarck \n-###
URL:https://www.hoeven.senate.gov/event/senator-hoeven-to-address-north-dakota-farmers-union-annual-convention-discuss-efforts-on-trade-farm-safety-net-enhancements-ag-assistance
CATEGORIES:General Event
END:VEVENT
END:VCALENDAR